BEGIN:VCALENDAR
VERSION:2.0
PRODID:-//Accountant Attorney Networking Group Inc. - ECPv6.15.20//NONSGML v1.0//EN
CALSCALE:GREGORIAN
METHOD:PUBLISH
X-WR-CALNAME:Accountant Attorney Networking Group Inc.
X-ORIGINAL-URL:https://accountantattorneynetworking.com
X-WR-CALDESC:Events for Accountant Attorney Networking Group Inc.
REFRESH-INTERVAL;VALUE=DURATION:PT1H
X-Robots-Tag:noindex
X-PUBLISHED-TTL:PT1H
BEGIN:VTIMEZONE
TZID:America/New_York
BEGIN:DAYLIGHT
TZOFFSETFROM:-0500
TZOFFSETTO:-0400
TZNAME:EDT
DTSTART:20250309T070000
END:DAYLIGHT
BEGIN:STANDARD
TZOFFSETFROM:-0400
TZOFFSETTO:-0500
TZNAME:EST
DTSTART:20251102T060000
END:STANDARD
BEGIN:DAYLIGHT
TZOFFSETFROM:-0500
TZOFFSETTO:-0400
TZNAME:EDT
DTSTART:20260308T070000
END:DAYLIGHT
BEGIN:STANDARD
TZOFFSETFROM:-0400
TZOFFSETTO:-0500
TZNAME:EST
DTSTART:20261101T060000
END:STANDARD
BEGIN:DAYLIGHT
TZOFFSETFROM:-0500
TZOFFSETTO:-0400
TZNAME:EDT
DTSTART:20270314T070000
END:DAYLIGHT
BEGIN:STANDARD
TZOFFSETFROM:-0400
TZOFFSETTO:-0500
TZNAME:EST
DTSTART:20271107T060000
END:STANDARD
END:VTIMEZONE
BEGIN:VEVENT
DTSTART;TZID=America/New_York:20260129T080000
DTEND;TZID=America/New_York:20260129T100000
DTSTAMP:20260422T070428
CREATED:20260109T215037Z
LAST-MODIFIED:20260109T220256Z
UID:14853-1769673600-1769680800@accountantattorneynetworking.com
SUMMARY:Monthly Breakfast - January 2026
DESCRIPTION:
URL:https://accountantattorneynetworking.com/event/monthly-breakfast-january-2026/
LOCATION:Dix Hills Diner\, 1800 E. Jericho Tpke\, Huntington\, NY\, 11743\, United States
CATEGORIES:Breakfast Meetings
ATTACH;FMTTYPE=image/jpeg:https://accountantattorneynetworking.com/wp-content/uploads/2026/01/2025-01-09-v1-AAG-AANG-Networking-Breakfast-Supporting-Strategies-1.jpg
END:VEVENT
END:VCALENDAR